BEGIN:VCALENDAR
VERSION:2.0
PRODID:-//Construction Industry Federation - ECPv6.15.16.1//NONSGML v1.0//EN
CALSCALE:GREGORIAN
METHOD:PUBLISH
X-WR-CALNAME:Construction Industry Federation
X-ORIGINAL-URL:https://cif.ie
X-WR-CALDESC:Events for Construction Industry Federation
REFRESH-INTERVAL;VALUE=DURATION:PT1H
X-Robots-Tag:noindex
X-PUBLISHED-TTL:PT1H
BEGIN:VTIMEZONE
TZID:Europe/Dublin
BEGIN:STANDARD
TZOFFSETFROM:+0000
TZOFFSETTO:+0100
TZNAME:IST
DTSTART:20230326T010000
END:STANDARD
BEGIN:DAYLIGHT
TZOFFSETFROM:+0100
TZOFFSETTO:+0000
TZNAME:GMT
DTSTART:20231029T010000
END:DAYLIGHT
BEGIN:STANDARD
TZOFFSETFROM:+0000
TZOFFSETTO:+0100
TZNAME:IST
DTSTART:20240331T010000
END:STANDARD
BEGIN:DAYLIGHT
TZOFFSETFROM:+0100
TZOFFSETTO:+0000
TZNAME:GMT
DTSTART:20241027T010000
END:DAYLIGHT
BEGIN:STANDARD
TZOFFSETFROM:+0000
TZOFFSETTO:+0100
TZNAME:IST
DTSTART:20250330T010000
END:STANDARD
BEGIN:DAYLIGHT
TZOFFSETFROM:+0100
TZOFFSETTO:+0000
TZNAME:GMT
DTSTART:20251026T010000
END:DAYLIGHT
END:VTIMEZONE
BEGIN:VEVENT
DTSTART;TZID=Europe/Dublin:20240412T190000
DTEND;TZID=Europe/Dublin:20240412T190000
DTSTAMP:20260426T024706
CREATED:20240226T143018Z
LAST-MODIFIED:20250114T151449Z
UID:62397-1712948400-1712948400@cif.ie
SUMMARY:CIF West Gala Dinner 2024
DESCRIPTION:Are you working in the Construction Industry in the West of Ireland?  \nAre you considering a future project or developing a business base in the West of Ireland?  \nJoin us for the Annual CIF West Gala Dinner – Book Your Tickets Today \nThis year’s CIF West Gala Dinner will take place on Friday 12th April 2024 in the Ardilaun Hotel\, Galway. \nA key event in the construction industry calendar\, the CIF West Gala Dinner allows the opportunity for companies in the construction sector operating or considering projects in the West of Ireland to engage and network with like-minded CIF Members and businesses\, making valuable contacts in the area. \nIn addition to being a fun and interactive evening\, the event brings over 250 key industry professionals\, and decision-makers actively working in the region into one room to make effective long-term connections for the future. \n\nWhere: The Ardilaun Hotel\, Galway\nWhen: Friday 12th April 2024\, 7:00 pm – late\nDress Code: Black Tie \n\nDon’t miss out on your chance to attend this year’s only CIF Construction Gala Dinner event in the West. \nTo book your tickets or for sponsorship opportunities\, please contact our team at westernregionevents@cif.ie
URL:https://cif.ie/event/join-us-for-the-annual-cif-west-gala-dinner-book-your-tickets-today/
LOCATION:The Ardilaun Hotel Galway\, Taylor's Hill\, Galway\, Ireland
CATEGORIES:CIF Events,Western & Midland Region
ATTACH;FMTTYPE=image/png:https://cif.ie/wp-content/uploads/2024/02/820-312.png
ORGANIZER;CN="westernregionevents@cif.ie":MAILTO:westernregionevents@cif.ie
END:VEVENT
END:VCALENDAR