BEGIN:VCALENDAR
VERSION:2.0
PRODID:-//Construction Industry Federation - ECPv6.15.16.1//NONSGML v1.0//EN
CALSCALE:GREGORIAN
METHOD:PUBLISH
X-ORIGINAL-URL:https://cif.ie
X-WR-CALDESC:Events for Construction Industry Federation
REFRESH-INTERVAL;VALUE=DURATION:PT1H
X-Robots-Tag:noindex
X-PUBLISHED-TTL:PT1H
BEGIN:VTIMEZONE
TZID:Europe/Dublin
BEGIN:STANDARD
TZOFFSETFROM:+0000
TZOFFSETTO:+0100
TZNAME:IST
DTSTART:20230326T010000
END:STANDARD
BEGIN:DAYLIGHT
TZOFFSETFROM:+0100
TZOFFSETTO:+0000
TZNAME:GMT
DTSTART:20231029T010000
END:DAYLIGHT
BEGIN:STANDARD
TZOFFSETFROM:+0000
TZOFFSETTO:+0100
TZNAME:IST
DTSTART:20240331T010000
END:STANDARD
BEGIN:DAYLIGHT
TZOFFSETFROM:+0100
TZOFFSETTO:+0000
TZNAME:GMT
DTSTART:20241027T010000
END:DAYLIGHT
BEGIN:STANDARD
TZOFFSETFROM:+0000
TZOFFSETTO:+0100
TZNAME:IST
DTSTART:20250330T010000
END:STANDARD
BEGIN:DAYLIGHT
TZOFFSETFROM:+0100
TZOFFSETTO:+0000
TZNAME:GMT
DTSTART:20251026T010000
END:DAYLIGHT
END:VTIMEZONE
BEGIN:VEVENT
DTSTART;VALUE=DATE:20240514
DTEND;VALUE=DATE:20240515
DTSTAMP:20260426T010146
CREATED:20240405T104344Z
LAST-MODIFIED:20240408T124017Z
UID:63415-1715644800-1715731199@cif.ie
SUMMARY:CIF Health & Safety Summit
DESCRIPTION:The CIF Health & Safety Summit 2024 is designed to share updates in innovation and improvements for health and safety and to foster new ways of thinking for the built environment.  \nHear from expert thought leaders in European and UK health and safety\, on how emerging technologies are creating new opportunities and unique challenges for the future of health and safety in the construction industry. Advancing faster than any innovation in our history\, digital technologies have transformed our society and our daily lives. For workers and employers in many workplaces and in all sectors\, digital technology offers increased opportunities but also presents greater challenges and risks in terms of safety and health. With the increasing move towards digitalisation of fieldworkers\, Health & Safety and Operational leaders need to be abreast of the latest solutions being used by progressive organisations in the sector. \nOur expert speakers will discuss constructing the future and how the surge in the adoption of Artificial Intelligence (AI) across various industries from healthcare to education and from agriculture to manufacturing. AI has become an essential part of modern business models and in the construction industry it has the potential to reshape workflows\, improve safety\, and increase efficiency like never before. What futuristic technologies will power the AI revolution? How can we leverage modern construction methods and digitalisation for enhanced efficiency? \nOther key industry topics will include the importance of psychological safety for high performance; the impact of new techniques and methods of construction on health and safety in Off Site Manufacturing/Modern Methods of Construction; the work of the Construction Industry Register Ireland (CIRI) Admissions and Registration Board on the categorisation of industry sectors for first registration under statutory CIRI\, projected to commence at some stage in 2025.                                                                                                           \nThere will also be opportunity to network with other professionals before\, during and after the event\, as well exploring issues at our roundtable discussion session. Don’t miss this opportunity to gather\, connect and collaborate with other thought leaders in the industry. \nThis year’s CIF Health & Safety Summit sees Ireland’s construction sector coming together to reinforce and promote the importance of safety\, health and overall wellbeing in both work and life. As one of the Ireland’s largest industries\, it is vital we continue to grow\, change\, collaborate and innovate to protect people and prevent harm.
URL:https://cif.ie/event/cif-health-safety-summit/
LOCATION:Croke Park\, Croke Park\, Jones' Rd\, Drumcondra\, Dublin 3\, Dublin\, D3\, Ireland
CATEGORIES:Health and Safety
ATTACH;FMTTYPE=image/png:https://cif.ie/wp-content/uploads/2024/04/CIF-Health-Safety-Summit-2024-1-300x94-1.png
END:VEVENT
BEGIN:VEVENT
DTSTART;TZID=Europe/Dublin:20240514T140000
DTEND;TZID=Europe/Dublin:20240514T170000
DTSTAMP:20260426T010146
CREATED:20240425T103920Z
LAST-MODIFIED:20240425T103920Z
UID:63776-1715695200-1715706000@cif.ie
SUMMARY:IHBA Regional Housing Workshop - Waterford
DESCRIPTION:This is a unique opportunity for Housebuilders and Developers to interact with key personnel in relation to finance\, utility connections\, housing policy\, and the very latest updates concerning all housing matters. \nIn attendance will be our sponsors HBFI and Enterprise Ireland\, along with Uisce Éireann\, ESB\, The Department of Housing\, HomeBond\, and other key stakeholders. \nThe Workshops are free to attend and are open to all those delivering homes in Ireland – CIF members and non-members. \nAll secured reservations will receive a confirmation email. Places are limited and will be allocated on a first-come\, first-serve basis. \nThis event is approved for 3 CPD Points. \n  \nBOOK NOW
URL:https://cif.ie/event/ihba-regional-housing-workshop-waterford/
LOCATION:The Tower Hotel\, The Tower Hotel\, The Mall\, Waterford\, Ireland
ATTACH;FMTTYPE=image/jpeg:https://cif.ie/wp-content/uploads/2024/03/IHBA_Workshops_24_v1Waterford.jpg
ORGANIZER;CN="Cathy Gurry":MAILTO:cgurry@cif.ie
END:VEVENT
END:VCALENDAR