BEGIN:VCALENDAR
VERSION:2.0
PRODID:-//Construction Industry Federation - ECPv6.15.16.1//NONSGML v1.0//EN
CALSCALE:GREGORIAN
METHOD:PUBLISH
X-WR-CALNAME:Construction Industry Federation
X-ORIGINAL-URL:https://cif.ie
X-WR-CALDESC:Events for Construction Industry Federation
REFRESH-INTERVAL;VALUE=DURATION:PT1H
X-Robots-Tag:noindex
X-PUBLISHED-TTL:PT1H
BEGIN:VTIMEZONE
TZID:Europe/Dublin
BEGIN:STANDARD
TZOFFSETFROM:+0000
TZOFFSETTO:+0100
TZNAME:IST
DTSTART:20230326T010000
END:STANDARD
BEGIN:DAYLIGHT
TZOFFSETFROM:+0100
TZOFFSETTO:+0000
TZNAME:GMT
DTSTART:20231029T010000
END:DAYLIGHT
BEGIN:STANDARD
TZOFFSETFROM:+0000
TZOFFSETTO:+0100
TZNAME:IST
DTSTART:20240331T010000
END:STANDARD
BEGIN:DAYLIGHT
TZOFFSETFROM:+0100
TZOFFSETTO:+0000
TZNAME:GMT
DTSTART:20241027T010000
END:DAYLIGHT
BEGIN:STANDARD
TZOFFSETFROM:+0000
TZOFFSETTO:+0100
TZNAME:IST
DTSTART:20250330T010000
END:STANDARD
BEGIN:DAYLIGHT
TZOFFSETFROM:+0100
TZOFFSETTO:+0000
TZNAME:GMT
DTSTART:20251026T010000
END:DAYLIGHT
END:VTIMEZONE
BEGIN:VEVENT
DTSTART;TZID=Europe/Dublin:20241002T133000
DTEND;TZID=Europe/Dublin:20241002T180000
DTSTAMP:20260422T154454
CREATED:20240710T112120Z
LAST-MODIFIED:20240821T121059Z
UID:65211-1727875800-1727892000@cif.ie
SUMMARY:IHBA Annual Housing Lunch 2024
DESCRIPTION:The Irish Home Builders Association Annual Lunch will take place in the Anantara\, Marker Hotel\, Grand Canal Basin on Wednesday\, 2nd of October\, 2024 at 1.30pm. \nContact cathy at cgurry@cif.ie for booking information or call on 01-4066008 / 087 4067 125.
URL:https://cif.ie/event/ihba-annual-housing-lunch-2024/
LOCATION:Marker Hotel\, Docklands\,\, Dublin 2\, Ireland
END:VEVENT
END:VCALENDAR