BEGIN:VCALENDAR
VERSION:2.0
PRODID:-//Construction Industry Federation - ECPv6.15.16.1//NONSGML v1.0//EN
CALSCALE:GREGORIAN
METHOD:PUBLISH
X-WR-CALNAME:Construction Industry Federation
X-ORIGINAL-URL:https://cif.ie
X-WR-CALDESC:Events for Construction Industry Federation
REFRESH-INTERVAL;VALUE=DURATION:PT1H
X-Robots-Tag:noindex
X-PUBLISHED-TTL:PT1H
BEGIN:VTIMEZONE
TZID:Europe/Dublin
BEGIN:STANDARD
TZOFFSETFROM:+0000
TZOFFSETTO:+0100
TZNAME:IST
DTSTART:20240331T010000
END:STANDARD
BEGIN:DAYLIGHT
TZOFFSETFROM:+0100
TZOFFSETTO:+0000
TZNAME:GMT
DTSTART:20241027T010000
END:DAYLIGHT
BEGIN:STANDARD
TZOFFSETFROM:+0000
TZOFFSETTO:+0100
TZNAME:IST
DTSTART:20250330T010000
END:STANDARD
BEGIN:DAYLIGHT
TZOFFSETFROM:+0100
TZOFFSETTO:+0000
TZNAME:GMT
DTSTART:20251026T010000
END:DAYLIGHT
BEGIN:STANDARD
TZOFFSETFROM:+0000
TZOFFSETTO:+0100
TZNAME:IST
DTSTART:20260329T010000
END:STANDARD
BEGIN:DAYLIGHT
TZOFFSETFROM:+0100
TZOFFSETTO:+0000
TZNAME:GMT
DTSTART:20261025T010000
END:DAYLIGHT
END:VTIMEZONE
BEGIN:VEVENT
DTSTART;TZID=Europe/Dublin:20250404T190000
DTEND;TZID=Europe/Dublin:20250404T190000
DTSTAMP:20260421T195553
CREATED:20250114T151958Z
LAST-MODIFIED:20250128T160636Z
UID:68746-1743793200-1743793200@cif.ie
SUMMARY:CIF West Gala Dinner 2025
DESCRIPTION:Join us for the Annual CIF West Gala Dinner – book your tickets today \nThis year’s CIF West Gala Dinner will take place on Friday 4th April 2025 in the Ardilaun Hotel\, Galway. \nA key event in the construction industry calendar\, the CIF West Gala Dinner allows the opportunity for companies in the construction sector operating or considering projects in the West of Ireland to engage and network with like-minded CIF members and businesses\, making valuable contacts in the area. \nIn addition to being a fun and interactive evening\, the event brings over 250 key industry professionals\, and decision-makers actively working in the region into one room to make effective long-term connections for the future. \n\nWhere: The Ardilaun Hotel\, Galway\nWhen: Friday 4th April 2025\, 7:00 pm – late\nDress Code: Black Tie \n\nDon’t miss out on your chance to attend this year’s only CIF Construction Gala Dinner event in the West. \nTo book your tickets or for sponsorship opportunities\, please contact our team at westernregionevents@cif.ie
URL:https://cif.ie/event/cif-west-gala-dinner-2025/
LOCATION:Ardilaun House Hotel\, Galway\, Ardilaun Hotel\, Taylor's Hill Rd\, Co. Galway\, H91 H29F\, Ireland
CATEGORIES:Western & Midland Region
ATTACH;FMTTYPE=image/png:https://cif.ie/wp-content/uploads/2025/01/Ardilaun-Hotel-Galway3.png
ORGANIZER;CN="westernregionevents@cif.ie":MAILTO:westernregionevents@cif.ie
END:VEVENT
END:VCALENDAR