BEGIN:VCALENDAR
VERSION:2.0
PRODID:-//Construction Industry Federation - ECPv6.15.16.1//NONSGML v1.0//EN
CALSCALE:GREGORIAN
METHOD:PUBLISH
X-WR-CALNAME:Construction Industry Federation
X-ORIGINAL-URL:https://cif.ie
X-WR-CALDESC:Events for Construction Industry Federation
REFRESH-INTERVAL;VALUE=DURATION:PT1H
X-Robots-Tag:noindex
X-PUBLISHED-TTL:PT1H
BEGIN:VTIMEZONE
TZID:Europe/Dublin
BEGIN:STANDARD
TZOFFSETFROM:+0000
TZOFFSETTO:+0100
TZNAME:IST
DTSTART:20240331T010000
END:STANDARD
BEGIN:DAYLIGHT
TZOFFSETFROM:+0100
TZOFFSETTO:+0000
TZNAME:GMT
DTSTART:20241027T010000
END:DAYLIGHT
BEGIN:STANDARD
TZOFFSETFROM:+0000
TZOFFSETTO:+0100
TZNAME:IST
DTSTART:20250330T010000
END:STANDARD
BEGIN:DAYLIGHT
TZOFFSETFROM:+0100
TZOFFSETTO:+0000
TZNAME:GMT
DTSTART:20251026T010000
END:DAYLIGHT
BEGIN:STANDARD
TZOFFSETFROM:+0000
TZOFFSETTO:+0100
TZNAME:IST
DTSTART:20260329T010000
END:STANDARD
BEGIN:DAYLIGHT
TZOFFSETFROM:+0100
TZOFFSETTO:+0000
TZNAME:GMT
DTSTART:20261025T010000
END:DAYLIGHT
END:VTIMEZONE
BEGIN:VEVENT
DTSTART;TZID=Europe/Dublin:20250904T080000
DTEND;TZID=Europe/Dublin:20250904T170000
DTSTAMP:20260421T122631
CREATED:20250130T110715Z
LAST-MODIFIED:20250728T131454Z
UID:69083-1756972800-1757005200@cif.ie
SUMMARY:Western Region Golf Outing
DESCRIPTION:The competition will be a scramble competition in a 4-ball format. Tee times are scheduled between 1:00pm and 3:00pm. The entry fee is €75 per person\, which includes dinner. \nTo book\, please download the form here and send to Brid Cody at bcody@cif.ie.
URL:https://cif.ie/event/western-region-golf-outing/
LOCATION:Oughterard Golf Club\, Gortrevagh\, Oughterard\, Co. Galway\, H91 VKH3\, Ireland
CATEGORIES:Western & Midland Region
END:VEVENT
END:VCALENDAR