BEGIN:VCALENDAR
VERSION:2.0
PRODID:-//Construction Industry Federation - ECPv6.15.16.1//NONSGML v1.0//EN
CALSCALE:GREGORIAN
METHOD:PUBLISH
X-ORIGINAL-URL:https://cif.ie
X-WR-CALDESC:Events for Construction Industry Federation
REFRESH-INTERVAL;VALUE=DURATION:PT1H
X-Robots-Tag:noindex
X-PUBLISHED-TTL:PT1H
BEGIN:VTIMEZONE
TZID:Europe/Dublin
BEGIN:STANDARD
TZOFFSETFROM:+0000
TZOFFSETTO:+0100
TZNAME:IST
DTSTART:20220327T010000
END:STANDARD
BEGIN:DAYLIGHT
TZOFFSETFROM:+0100
TZOFFSETTO:+0000
TZNAME:GMT
DTSTART:20221030T010000
END:DAYLIGHT
BEGIN:STANDARD
TZOFFSETFROM:+0000
TZOFFSETTO:+0100
TZNAME:IST
DTSTART:20230326T010000
END:STANDARD
BEGIN:DAYLIGHT
TZOFFSETFROM:+0100
TZOFFSETTO:+0000
TZNAME:GMT
DTSTART:20231029T010000
END:DAYLIGHT
BEGIN:STANDARD
TZOFFSETFROM:+0000
TZOFFSETTO:+0100
TZNAME:IST
DTSTART:20240331T010000
END:STANDARD
BEGIN:DAYLIGHT
TZOFFSETFROM:+0100
TZOFFSETTO:+0000
TZNAME:GMT
DTSTART:20241027T010000
END:DAYLIGHT
BEGIN:STANDARD
TZOFFSETFROM:+0000
TZOFFSETTO:+0100
TZNAME:IST
DTSTART:20250330T010000
END:STANDARD
BEGIN:DAYLIGHT
TZOFFSETFROM:+0100
TZOFFSETTO:+0000
TZNAME:GMT
DTSTART:20251026T010000
END:DAYLIGHT
END:VTIMEZONE
BEGIN:VEVENT
DTSTART;TZID=Europe/Dublin:20240530T140000
DTEND;TZID=Europe/Dublin:20240530T170000
DTSTAMP:20260424T000828
CREATED:20240425T105334Z
LAST-MODIFIED:20240425T105334Z
UID:63783-1717077600-1717088400@cif.ie
SUMMARY:IHBA Regional Housing Workshop - Cork
DESCRIPTION:This is a unique opportunity for Housebuilders and Developers to interact with key personnel in relation to finance\, utility connections\, housing policy\, and the very latest updates concerning all housing matters. \nIn attendance will be our sponsors HBFI and Enterprise Ireland\, along with Uisce Éireann\, ESB\, The Department of Housing\, HomeBond\, and other key stakeholders. \nThe Workshops are free to attend and are open to all those delivering homes in Ireland – CIF members and non-members. \nAll secured reservations will receive a confirmation email. Places are limited and will be allocated on a first-come\, first-serve basis. \nThis event is approved for 3 CPD Points. \n  \nBOOK NOW
URL:https://cif.ie/event/ihba-regional-housing-workshop-cork/
LOCATION:Radisson Blu Spa & Hotel\, Cork\, Radisson Blu Spa & Hotel\, Cork\, Ireland
CATEGORIES:CIF Events,IHBA
ATTACH;FMTTYPE=image/jpeg:https://cif.ie/wp-content/uploads/2024/03/IHBA_Workshops_24_v1Cork.jpg
ORGANIZER;CN="Cathy Gurry":MAILTO:cgurry@cif.ie
END:VEVENT
BEGIN:VEVENT
DTSTART;TZID=Europe/Dublin:20240524T090000
DTEND;TZID=Europe/Dublin:20240524T120000
DTSTAMP:20260424T000828
CREATED:20240425T104410Z
LAST-MODIFIED:20240425T104410Z
UID:63780-1716541200-1716552000@cif.ie
SUMMARY:IHBA Regional Housing Workshop - Dublin
DESCRIPTION:This is a unique opportunity for Housebuilders and Developers to interact with key personnel in relation to finance\, utility connections\, housing policy\, and the very latest updates concerning all housing matters. \nIn attendance will be our sponsors HBFI and Enterprise Ireland\, along with Uisce Éireann\, ESB\, The Department of Housing\, HomeBond\, and other key stakeholders. \nThe Workshops are free to attend and are open to all those delivering homes in Ireland – CIF members and non-members. \nAll secured reservations will receive a confirmation email. Places are limited and will be allocated on a first-come\, first-serve basis. \nThis event is approved for 3 CPD Points. \n  \nBOOK NOW
URL:https://cif.ie/event/ihba-regional-housing-workshop-dublin/
LOCATION:The Crowne Plaza\, Northwood Park\, Santry Demesne\,\, Dublin\, D09 KN66\, Ireland
CATEGORIES:CIF Events,IHBA
ATTACH;FMTTYPE=image/jpeg:https://cif.ie/wp-content/uploads/2024/03/IHBA_Workshops_24_v1Dublin.jpg
ORGANIZER;CN="Cathy Gurry":MAILTO:cgurry@cif.ie
END:VEVENT
BEGIN:VEVENT
DTSTART;TZID=Europe/Dublin:20240516T140000
DTEND;TZID=Europe/Dublin:20240516T170000
DTSTAMP:20260424T000828
CREATED:20240425T104110Z
LAST-MODIFIED:20240425T104111Z
UID:63778-1715868000-1715878800@cif.ie
SUMMARY:IHBA Regional Housing Workshop - Limerick
DESCRIPTION:This is a unique opportunity for Housebuilders and Developers to interact with key personnel in relation to finance\, utility connections\, housing policy\, and the very latest updates concerning all housing matters. \n \nIn attendance will be our sponsors HBFI and Enterprise Ireland\, along with Uisce Éireann\, ESB\, The Department of Housing\, HomeBond\, and other key stakeholders. \nThe Workshops are free to attend and are open to all those delivering homes in Ireland – CIF members and non-members. \nAll secured reservations will receive a confirmation email. Places are limited and will be allocated on a first-come\, first-serve basis. \nThis event is approved for 3 CPD Points. \n  \nBOOK NOW
URL:https://cif.ie/event/ihba-regional-housing-workshop-limerick/
LOCATION:Radisson Blu Hotel\, Limerick\, Radisson Blu Limerick\, Ennis Rd\, Burtonhill\, Limerick\, Ireland
CATEGORIES:CIF Events,IHBA
ATTACH;FMTTYPE=image/jpeg:https://cif.ie/wp-content/uploads/2024/03/IHBA_Workshops_24_v1Limerick.jpg
ORGANIZER;CN="Cathy Gurry":MAILTO:cgurry@cif.ie
END:VEVENT
BEGIN:VEVENT
DTSTART;TZID=Europe/Dublin:20240509T140000
DTEND;TZID=Europe/Dublin:20240509T170000
DTSTAMP:20260424T000828
CREATED:20240425T103540Z
LAST-MODIFIED:20240425T103707Z
UID:63772-1715263200-1715274000@cif.ie
SUMMARY:IHBA Regional Housing Workshop - Galway
DESCRIPTION:This is a unique opportunity for Housebuilders and Developers to interact with key personnel in relation to finance\, utility connections\, housing policy\, and the very latest updates concerning all housing matters. \nIn attendance will be our sponsors HBFI and Enterprise Ireland\, along with Uisce Éireann\, ESB\, The Department of Housing\, HomeBond\, and other key stakeholders. \nThe Workshops are free to attend and are open to all those delivering homes in Ireland – CIF members and non-members. \nAll secured reservations will receive a confirmation email. Places are limited and will be allocated on a first-come\, first-serve basis. \nThis event is approved for 3 CPD Points. \n  \nBOOK NOW
URL:https://cif.ie/event/ihba-regional-housing-workshop-galway/
LOCATION:Maldron Hotel Galway\, Maldron Hotel\, Galway\, Sandy Rd\, Galway\, Ireland
CATEGORIES:CIF Events,IHBA
ATTACH;FMTTYPE=image/jpeg:https://cif.ie/wp-content/uploads/2024/03/IHBA_Workshops_24_v1Galway.jpg
ORGANIZER;CN="Cathy Gurry":MAILTO:cgurry@cif.ie
END:VEVENT
BEGIN:VEVENT
DTSTART;VALUE=DATE:20240416
DTEND;VALUE=DATE:20240417
DTSTAMP:20260424T000828
CREATED:20240130T125108Z
LAST-MODIFIED:20240410T101837Z
UID:62099-1713225600-1713311999@cif.ie
SUMMARY:IHBA Housing Summit  - 16 May 2024
DESCRIPTION:The IHBA’s one-day Housebuilding Summit is the must-attend event for housebuilders\, developers\, policymakers\, local authorities\, housing associations\, key partners and suppliers. We will explore how we speed up the delivery of homes. We will be asking can we deliver housing in the coming decade and if so how do we achieve it? The Summit will provide a national platform for key stakeholders and industry voices to share details of upcoming developments and discuss major issues and challenges.\n\nClick here for further details \n 
URL:https://cif.ie/event/ihba-housing-summit/
LOCATION:Croke Park\, Croke Park\, Jones' Rd\, Drumcondra\, Dublin 3\, Dublin\, D3\, Ireland
CATEGORIES:IHBA
ATTACH;FMTTYPE=image/jpeg:https://cif.ie/wp-content/uploads/2024/01/IHBA_Sharing.jpg
END:VEVENT
BEGIN:VEVENT
DTSTART;TZID=Europe/Dublin:20231206T110000
DTEND;TZID=Europe/Dublin:20231206T130000
DTSTAMP:20260424T000828
CREATED:20230711T090619Z
LAST-MODIFIED:20230823T103822Z
UID:57888-1701860400-1701867600@cif.ie
SUMMARY:IHBA National Committee Meeting
DESCRIPTION:IHBA National Committee Meeting \nWednesday\, 6th of December. \nVia Teams
URL:https://cif.ie/event/ihba-national-committee-meeting-6/
CATEGORIES:CIF Events,IHBA
ATTACH;FMTTYPE=image/jpeg:https://cif.ie/wp-content/uploads/2022/12/IHBA.jpg
END:VEVENT
BEGIN:VEVENT
DTSTART;TZID=Europe/Dublin:20231129T080000
DTEND;TZID=Europe/Dublin:20231129T100000
DTSTAMP:20260424T000828
CREATED:20230711T092532Z
LAST-MODIFIED:20231117T110459Z
UID:57897-1701244800-1701252000@cif.ie
SUMMARY:Prospects '24
DESCRIPTION:Prospects ’24 will take place in the Crowne Plaza Hotel\, Northwood\, Santry on Wednesday\, the 29th of November 2023. \nProspects ’24 will feature speakers from a range of state and semi-state agencies\, along with representatives from approved housing bodies who have played a crucial role in the housing sector. The workshop will serve as a platform for sharing insights\, best practices\, and fostering collaborations among stakeholders invested in Ireland’s housing market.
URL:https://cif.ie/event/prospects-24/
LOCATION:The Crowne Plaza\, Northwood Park\, Santry Demesne\,\, Dublin\, D09 KN66\, Ireland
CATEGORIES:IHBA
ATTACH;FMTTYPE=image/jpeg:https://cif.ie/wp-content/uploads/2023/07/Unique-lighting-of-house-in-group-of-houses.jpg
ORGANIZER;CN="Cathy Gurry":MAILTO:cgurry@cif.ie
END:VEVENT
BEGIN:VEVENT
DTSTART;TZID=Europe/Dublin:20230914T140000
DTEND;TZID=Europe/Dublin:20230914T170000
DTSTAMP:20260424T000828
CREATED:20230711T092047Z
LAST-MODIFIED:20230817T114013Z
UID:57895-1694700000-1694710800@cif.ie
SUMMARY:IHBA Annual Housing Lunch
DESCRIPTION:The IHBA will host their Annual Housing Lunch this year in the Anantara The Marker  Hotel\, Dublin on Thursday\, 14th of September 2023. \nThe event is kindly sponsored by AIB this year. \nFor Ticket Enquiries contact Cathy at cgurry@cif.ie  or call 01-4066008
URL:https://cif.ie/event/ihba-annual-housing-lunch/
LOCATION:Marker Hotel\, Docklands\,\, Dublin 2\, Ireland
CATEGORIES:CIF Events,IHBA
ATTACH;FMTTYPE=image/jpeg:https://cif.ie/wp-content/uploads/2023/07/Corporate-Lunch.jpg
ORGANIZER;CN="Cathy Gurry":MAILTO:cgurry@cif.ie
END:VEVENT
BEGIN:VEVENT
DTSTART;VALUE=DATE:20230704
DTEND;VALUE=DATE:20230705
DTSTAMP:20260424T000828
CREATED:20230224T112146Z
LAST-MODIFIED:20230301T123139Z
UID:54294-1688428800-1688515199@cif.ie
SUMMARY:IHBA National Committee Meeting
DESCRIPTION:The IHBA National Committee are the nominated representatives and voice of our members throughout the country. \nThe Committee comprise representatives from thirteen different Branches and convene every two months to bring members issues to the fore and in the same way share relevant information back through their branch meetings to IHBA members.
URL:https://cif.ie/event/ihba-national-committee-meeting-3/
LOCATION:Online via Zoom
CATEGORIES:IHBA
ATTACH;FMTTYPE=image/jpeg:https://cif.ie/wp-content/uploads/2023/02/IHBA.jpg
ORGANIZER;CN="Cathy Gurry":MAILTO:cgurry@cif.ie
END:VEVENT
BEGIN:VEVENT
DTSTART;TZID=Europe/Dublin:20230530T133000
DTEND;TZID=Europe/Dublin:20230530T163000
DTSTAMP:20260424T000828
CREATED:20230224T115136Z
LAST-MODIFIED:20230523T145142Z
UID:54320-1685453400-1685464200@cif.ie
SUMMARY:IHBA Housing Workshops ‘More Homes for More People’ - Cork
DESCRIPTION:Across April and May this year the IHBA will be hosting their Annual Regional Workshops. These are a series of regional events for our members and non-members\, discussing the challenges and opportunities for homebuilding in Ireland. Homebuilders will have the chance to provide insights into the current issues affecting them locally and offer views on how to address issues of supply and affordability. \nThe workshops will also provide the latest information and expert opinion on housing\, planning and development issues to ensure that companies are up to date with changes in legislation and regulation.
URL:https://cif.ie/event/ihba-housing-for-all-workshop-cork/
LOCATION:Radisson Blu Spa & Hotel\, Cork\, Radisson Blu Spa & Hotel\, Cork\, Ireland
CATEGORIES:IHBA
ATTACH;FMTTYPE=image/jpeg:https://cif.ie/wp-content/uploads/2023/02/IHBA_Event_Cork.jpg
ORGANIZER;CN="Cathy Gurry":MAILTO:cgurry@cif.ie
END:VEVENT
BEGIN:VEVENT
DTSTART;TZID=Europe/Dublin:20230529T133000
DTEND;TZID=Europe/Dublin:20230529T163000
DTSTAMP:20260424T000828
CREATED:20230224T115225Z
LAST-MODIFIED:20230522T092343Z
UID:54322-1685367000-1685377800@cif.ie
SUMMARY:IHBA Housing Workshops 2023 ‘More Homes for More People’ - Limerick
DESCRIPTION:Across April and May this year the IHBA will be hosting their Annual Regional Workshops. These are a series of regional events for our members and non-members\, discussing the challenges and opportunities for homebuilding in Ireland. Homebuilders will have the chance to provide insights into the current issues affecting them locally and offer views on how to address issues of supply and affordability. \nThe workshops will also provide the latest information and expert opinion on housing\, planning and development issues to ensure that companies are up to date with changes in legislation and regulation.
URL:https://cif.ie/event/ihba-housing-for-all-workshop-limerick/
LOCATION:Radisson Blu Hotel\, Limerick\, Radisson Blu Limerick\, Ennis Rd\, Burtonhill\, Limerick\, Ireland
CATEGORIES:IHBA
ATTACH;FMTTYPE=image/jpeg:https://cif.ie/wp-content/uploads/2023/02/IHBA_Event_Limerick.jpg
ORGANIZER;CN="Cathy Gurry":MAILTO:cgurry@cif.ie
END:VEVENT
BEGIN:VEVENT
DTSTART;TZID=Europe/Dublin:20230525T133000
DTEND;TZID=Europe/Dublin:20230525T163000
DTSTAMP:20260424T000828
CREATED:20230224T115050Z
LAST-MODIFIED:20230522T092410Z
UID:54318-1685021400-1685032200@cif.ie
SUMMARY:IHBA Housing Workshops 2023 ‘More Homes for More People’ - Dublin
DESCRIPTION:Across April and May this year the IHBA will be hosting their Annual Regional Workshops. These are a series of regional events for our members and non-members\, discussing the challenges and opportunities for homebuilding in Ireland. Homebuilders will have the chance to provide insights into the current issues affecting them locally and offer views on how to address issues of supply and affordability. \nThe workshops will also provide the latest information and expert opinion on housing\, planning and development issues to ensure that companies are up to date with changes in legislation and regulation.
URL:https://cif.ie/event/ihba-housing-for-all-workshop-dublin/
LOCATION:CIF Offices\, Construction House\, CIF Offices\, Construction House\, Canal Road\, Dublin 6\, Ireland
CATEGORIES:IHBA
ATTACH;FMTTYPE=image/jpeg:https://cif.ie/wp-content/uploads/2023/02/IHBA_Event_Dublin.jpg
ORGANIZER;CN="Cathy Gurry":MAILTO:cgurry@cif.ie
END:VEVENT
BEGIN:VEVENT
DTSTART;TZID=Europe/Dublin:20230522T133000
DTEND;TZID=Europe/Dublin:20230522T163000
DTSTAMP:20260424T000828
CREATED:20230224T115004Z
LAST-MODIFIED:20230522T092436Z
UID:54316-1684762200-1684773000@cif.ie
SUMMARY:IHBA Housing Workshops 2023 ‘More Homes for More People’ - Meath
DESCRIPTION:Across April and May this year the IHBA will be hosting their Annual Regional Workshops. These are a series of regional events for our members and non-members\, discussing the challenges and opportunities for homebuilding in Ireland. Homebuilders will have the chance to provide insights into the current issues affecting them locally and offer views on how to address issues of supply and affordability. \nThe workshops will also provide the latest information and expert opinion on housing\, planning and development issues to ensure that companies are up to date with changes in legislation and regulation.
URL:https://cif.ie/event/ihba-housing-for-all-workshop-meath/
LOCATION:Dunboyne Castle Hotel\, Castlefarm\, Dunboyne\, Co. Meath\, Ireland
CATEGORIES:IHBA
ATTACH;FMTTYPE=image/jpeg:https://cif.ie/wp-content/uploads/2023/02/IHBA_Event_Meath.jpg
ORGANIZER;CN="Cathy Gurry":MAILTO:cgurry@cif.ie
END:VEVENT
BEGIN:VEVENT
DTSTART;VALUE=DATE:20230516
DTEND;VALUE=DATE:20230517
DTSTAMP:20260424T000828
CREATED:20230224T112026Z
LAST-MODIFIED:20230301T123131Z
UID:54292-1684195200-1684281599@cif.ie
SUMMARY:IHBA National Committee Meeting (followed by IHBA AGM)
DESCRIPTION:The IHBA National Committee are the nominated representatives and voice of our members throughout the country. \nThe Committee comprise representatives from thirteen different Branches and convene every two months to bring members issues to the fore and in the same way share relevant information back through their branch meetings to IHBA members. \nThis National Committee Meeting will be followed by the IHBA AGM.
URL:https://cif.ie/event/ihba-national-committee-meeting-followed-by-ihba-agm/
LOCATION:CIF Offices\, Construction House\, CIF Offices\, Construction House\, Canal Road\, Dublin 6\, Ireland
CATEGORIES:IHBA
ATTACH;FMTTYPE=image/jpeg:https://cif.ie/wp-content/uploads/2023/02/IHBA.jpg
ORGANIZER;CN="Cathy Gurry":MAILTO:cgurry@cif.ie
END:VEVENT
BEGIN:VEVENT
DTSTART;TZID=Europe/Dublin:20230509T133000
DTEND;TZID=Europe/Dublin:20230509T170000
DTSTAMP:20260424T000828
CREATED:20230509T142045Z
LAST-MODIFIED:20230509T142045Z
UID:56179-1683639000-1683651600@cif.ie
SUMMARY:Save the Date ' IHBA Annual Lunch ' 14th September 2023
DESCRIPTION:Please save the date for this years IHBA Annual Lunch which will take place on Thursday\, 14th of September 2023 in the Marker Hotel\, Grand Canal Dock .  Further details and booking  instructions will issue in due course.
URL:https://cif.ie/event/save-the-date-ihba-annual-lunch-14th-september-2023/
LOCATION:Marker Hotel\, Docklands\,\, Dublin 2\, Ireland
CATEGORIES:CIF Events,IHBA
ORGANIZER;CN="Cathy Gurry":MAILTO:cgurry@cif.ie
END:VEVENT
BEGIN:VEVENT
DTSTART;VALUE=DATE:20230322
DTEND;VALUE=DATE:20230323
DTSTAMP:20260424T000828
CREATED:20230224T112537Z
LAST-MODIFIED:20230301T122658Z
UID:54302-1679443200-1679529599@cif.ie
SUMMARY:IHBA Housing Summit 2023
DESCRIPTION:The IHBA’s one-day Housebuilding Summit is the must-attend event for housebuilders\, developers\, policymakers\, local authorities\, housing associations\, key partners and suppliers. We will explore how we speed up the delivery of homes. We will be asking can we deliver housing for in the coming decade and if so how do we achieve it? The Summit will provide a national platform for key stakeholders and industry voices to share details of upcoming developments and discuss major issues and challenges. \nFor bookings: https://www.housebuildingsummit.com/#book
URL:https://cif.ie/event/ihba-housing-summit-2023/
LOCATION:Croke Park\, Croke Park\, Jones' Rd\, Drumcondra\, Dublin 3\, Dublin\, D3\, Ireland
CATEGORIES:IHBA
ATTACH;FMTTYPE=image/jpeg:https://cif.ie/wp-content/uploads/2023/02/IHBA.jpg
ORGANIZER;CN="Jackie Bryan":MAILTO:Jackie.bryan@sbpevents.ie
END:VEVENT
BEGIN:VEVENT
DTSTART;VALUE=DATE:20230321
DTEND;VALUE=DATE:20230322
DTSTAMP:20260424T000828
CREATED:20230224T111901Z
LAST-MODIFIED:20230301T123123Z
UID:54290-1679356800-1679443199@cif.ie
SUMMARY:IHBA National Committee Meeting
DESCRIPTION:The IHBA National Committee are the nominated representatives and voice of our members throughout the country. \nThe Committee comprise representatives from thirteen different Branches and convene every two months to bring members issues to the fore and in the same way share relevant information back through their branch meetings to IHBA members.
URL:https://cif.ie/event/ihba-national-committee-meeting-2/
LOCATION:Online via Zoom
CATEGORIES:IHBA
ATTACH;FMTTYPE=image/jpeg:https://cif.ie/wp-content/uploads/2023/02/IHBA.jpg
ORGANIZER;CN="Cathy Gurry":MAILTO:cgurry@cif.ie
END:VEVENT
BEGIN:VEVENT
DTSTART;VALUE=DATE:20230124
DTEND;VALUE=DATE:20230125
DTSTAMP:20260424T000828
CREATED:20230224T111407Z
LAST-MODIFIED:20230301T123116Z
UID:54283-1674518400-1674604799@cif.ie
SUMMARY:IHBA National Committee Meeting
DESCRIPTION:The IHBA National Committee are the nominated representatives and voice of our members throughout the country. \nThe Committee comprise representatives from thirteen different Branches and convene every two months to bring members issues to the fore and in the same way share relevant information back through their branch meetings to IHBA members.
URL:https://cif.ie/event/ihba-national-committee-meeting/
LOCATION:CIF Offices\, Construction House\, CIF Offices\, Construction House\, Canal Road\, Dublin 6\, Ireland
CATEGORIES:IHBA
ATTACH;FMTTYPE=image/jpeg:https://cif.ie/wp-content/uploads/2023/02/IHBA.jpg
ORGANIZER;CN="Cathy Gurry":MAILTO:cgurry@cif.ie
END:VEVENT
END:VCALENDAR