BEGIN:VCALENDAR
VERSION:2.0
PRODID:-//Construction Industry Federation - ECPv6.15.16.1//NONSGML v1.0//EN
CALSCALE:GREGORIAN
METHOD:PUBLISH
X-ORIGINAL-URL:https://cif.ie
X-WR-CALDESC:Events for Construction Industry Federation
REFRESH-INTERVAL;VALUE=DURATION:PT1H
X-Robots-Tag:noindex
X-PUBLISHED-TTL:PT1H
BEGIN:VTIMEZONE
TZID:Europe/Dublin
BEGIN:STANDARD
TZOFFSETFROM:+0000
TZOFFSETTO:+0100
TZNAME:IST
DTSTART:20240331T010000
END:STANDARD
BEGIN:DAYLIGHT
TZOFFSETFROM:+0100
TZOFFSETTO:+0000
TZNAME:GMT
DTSTART:20241027T010000
END:DAYLIGHT
BEGIN:STANDARD
TZOFFSETFROM:+0000
TZOFFSETTO:+0100
TZNAME:IST
DTSTART:20250330T010000
END:STANDARD
BEGIN:DAYLIGHT
TZOFFSETFROM:+0100
TZOFFSETTO:+0000
TZNAME:GMT
DTSTART:20251026T010000
END:DAYLIGHT
BEGIN:STANDARD
TZOFFSETFROM:+0000
TZOFFSETTO:+0100
TZNAME:IST
DTSTART:20260329T010000
END:STANDARD
BEGIN:DAYLIGHT
TZOFFSETFROM:+0100
TZOFFSETTO:+0000
TZNAME:GMT
DTSTART:20261025T010000
END:DAYLIGHT
BEGIN:STANDARD
TZOFFSETFROM:+0000
TZOFFSETTO:+0100
TZNAME:IST
DTSTART:20270328T010000
END:STANDARD
BEGIN:DAYLIGHT
TZOFFSETFROM:+0100
TZOFFSETTO:+0000
TZNAME:GMT
DTSTART:20271031T010000
END:DAYLIGHT
END:VTIMEZONE
BEGIN:VEVENT
DTSTART;TZID=Europe/Dublin:20251203T110000
DTEND;TZID=Europe/Dublin:20251203T130000
DTSTAMP:20260421T205144
CREATED:20251015T150632Z
LAST-MODIFIED:20251015T150632Z
UID:74195-1764759600-1764766800@cif.ie
SUMMARY:IHBA National Committee Meeting
DESCRIPTION:
URL:https://cif.ie/event/ihba-national-committee-meeting-9/
LOCATION:CIF Offices\, Construction House\, CIF Offices\, Construction House\, Canal Road\, Dublin 6\, Ireland
CATEGORIES:IHBA
END:VEVENT
BEGIN:VEVENT
DTSTART;TZID=Europe/Dublin:20260421T090000
DTEND;TZID=Europe/Dublin:20260421T143000
DTSTAMP:20260421T205144
CREATED:20260112T143920Z
LAST-MODIFIED:20260218T144232Z
UID:75936-1776762000-1776781800@cif.ie
SUMMARY:IHBA Housing Building Summit
DESCRIPTION:Going into its 7th year\, the IHBA’s annual summit brings industry leaders\, innovators\, and professionals together to explore the key challenges\, latest trends\, technologies\, and best practices in housebuilding. Where innovation and pragmatic solutions meet\, our event offers collaboration\, best practice learning and the conversations needed to achieve as an industry. \nThis is a must-attend event for homebuilders\, developers\, local authorities\, housing associations\, key partners and suppliers. So\, mark the date and bring your teams to keep abreast of industry trends\, engage with quality content and speakers\, network and meet fellow industry professionals who understand the challenges ahead. \nBook your place here.
URL:https://cif.ie/event/ihba-housing-summit-2/
LOCATION:Croke Park\, Croke Park\, Jones' Rd\, Drumcondra\, Dublin 3\, Dublin\, D3\, Ireland
CATEGORIES:IHBA
END:VEVENT
BEGIN:VEVENT
DTSTART;TZID=Europe/Dublin:20260514T130000
DTEND;TZID=Europe/Dublin:20260514T170000
DTSTAMP:20260421T205144
CREATED:20260310T121017Z
LAST-MODIFIED:20260420T101540Z
UID:77342-1778763600-1778778000@cif.ie
SUMMARY:IHBA Annual Housing Lunch 2026
DESCRIPTION:The IHBA Annual Housing Lunch 2026 is taking place in the Anantara Marker Hotel\, the Docklands\, Dublin\, on Thursday\, 14th May from 1.00pm. \nJoin IHBA members for an afternoon of networking and entertainment in one of Dublin’s premier venues. This annual lunch is the main IHBA Social Event of the year where members can network with their peers in a relaxed and enjoyable environment. \nArrival is for 1.00pm with a welcoming drinks reception followed by lunch commencing at 2.00pm. Lunch will be followed by a surprise guest entertainer. \nTickets for the event are €120.00 each (tables of up to 10 available). \nThe event is expected to sell out quickly with a limit of 24 tables\, so please book early. Download the booking form and email back to Cathy at cgurry@cif.ie.
URL:https://cif.ie/event/ihba-annual-housing-lunch-2026/
LOCATION:Marker Hotel\, Docklands\,\, Dublin 2\, Ireland
CATEGORIES:CIF Events,IHBA
END:VEVENT
BEGIN:VEVENT
DTSTART;TZID=Europe/Dublin:20260514T130000
DTEND;TZID=Europe/Dublin:20260514T170000
DTSTAMP:20260421T205144
CREATED:20260409T093241Z
LAST-MODIFIED:20260409T093241Z
UID:77720-1778763600-1778778000@cif.ie
SUMMARY:IHBA Annual Housing Lunch 2026
DESCRIPTION:The Irish Home Builders Association (IHBA) will be hosting their Annual Housing Lunch in the Anantara Marker Hotel\, Grand Canal Quay\, The Docklands\, Dublin on Thursday\, 14th of May 2026. \nPlease join us for an afternoon of networking and entertainment in one of Dublin’s premier venues. This annual housing lunch is the main IHBA social event of the year where members can network with their peers in a relaxed and enjoyable environment. \nArrival is for 1.00pm with a welcoming drinks reception followed by lunch commencing at 2.00pm. Lunch will be followed by a surprise guest entertainer. Please find booking form HERE. \nTickets for the event are €120.00 each (tables of up to 10 available). The event is expected to sell out quickly with a limit of 24 tables\, so please book early.
URL:https://cif.ie/event/ihba-annual-housing-lunch-2026-2/
LOCATION:Anantara Marker Hotel\, Grand Canal Quay\, The Docklands\, Dublin\, Anantara Marker Hotel\, Grand Canal Quay\, The Docklands\, Dublin\, Ireland
CATEGORIES:CIF Events,IHBA
ORGANIZER;CN="cgurry@cif.ie":MAILTO:cgurry@cif.ie
END:VEVENT
BEGIN:VEVENT
DTSTART;TZID=Europe/Dublin:20260521T080000
DTEND;TZID=Europe/Dublin:20260521T140000
DTSTAMP:20260421T205144
CREATED:20260330T141737Z
LAST-MODIFIED:20260330T141737Z
UID:77582-1779350400-1779372000@cif.ie
SUMMARY:Southern Construct
DESCRIPTION:The construction sector in Cork is entering one of the most pivotal decades in its history. From the transformation of Cork Docklands and city centre regeneration\, to unprecedented housing demand\, infrastructure upgrades and the race to meet climate targets\, the decisions made by industry leaders over the next few years will shape the region for generations. \n Learn more about the event and book your palce here
URL:https://cif.ie/event/southern-construct-4/
LOCATION:Pairc Ui Chaoimh\, Cork\, Ireland
CATEGORIES:IHBA,Southern Region
END:VEVENT
BEGIN:VEVENT
DTSTART;TZID=Europe/Dublin:20260911T080000
DTEND;TZID=Europe/Dublin:20260911T170000
DTSTAMP:20260421T205144
CREATED:20260112T144211Z
LAST-MODIFIED:20260112T144211Z
UID:75940-1789113600-1789146000@cif.ie
SUMMARY:IHBA Golf Classic & Lunch
DESCRIPTION:Details TBC.
URL:https://cif.ie/event/ihba-golf-classic-lunch/
LOCATION:Killeen Castle\, Killeen\, Dunsany\, Co. Meath\, C15 FH39\, Ireland
CATEGORIES:IHBA
END:VEVENT
END:VCALENDAR