BEGIN:VCALENDAR
VERSION:2.0
PRODID:-//Construction Industry Federation - ECPv6.15.16.1//NONSGML v1.0//EN
CALSCALE:GREGORIAN
METHOD:PUBLISH
X-WR-CALNAME:Construction Industry Federation
X-ORIGINAL-URL:https://cif.ie
X-WR-CALDESC:Events for Construction Industry Federation
REFRESH-INTERVAL;VALUE=DURATION:PT1H
X-Robots-Tag:noindex
X-PUBLISHED-TTL:PT1H
BEGIN:VTIMEZONE
TZID:Europe/Dublin
BEGIN:STANDARD
TZOFFSETFROM:+0000
TZOFFSETTO:+0100
TZNAME:IST
DTSTART:20210328T010000
END:STANDARD
BEGIN:DAYLIGHT
TZOFFSETFROM:+0100
TZOFFSETTO:+0000
TZNAME:GMT
DTSTART:20211031T010000
END:DAYLIGHT
BEGIN:STANDARD
TZOFFSETFROM:+0000
TZOFFSETTO:+0100
TZNAME:IST
DTSTART:20220327T010000
END:STANDARD
BEGIN:DAYLIGHT
TZOFFSETFROM:+0100
TZOFFSETTO:+0000
TZNAME:GMT
DTSTART:20221030T010000
END:DAYLIGHT
BEGIN:STANDARD
TZOFFSETFROM:+0000
TZOFFSETTO:+0100
TZNAME:IST
DTSTART:20230326T010000
END:STANDARD
BEGIN:DAYLIGHT
TZOFFSETFROM:+0100
TZOFFSETTO:+0000
TZNAME:GMT
DTSTART:20231029T010000
END:DAYLIGHT
END:VTIMEZONE
BEGIN:VEVENT
DTSTART;TZID=Europe/Dublin:20220509T130000
DTEND;TZID=Europe/Dublin:20220509T130000
DTSTAMP:20260422T232612
CREATED:20220127T110726Z
LAST-MODIFIED:20220127T110726Z
UID:45687-1652101200-1652101200@cif.ie
SUMMARY:Cork Branch Executive Meeting
DESCRIPTION:
URL:https://cif.ie/event/cork-branch-executive-meeting-21/
LOCATION:Dublin
END:VEVENT
BEGIN:VEVENT
DTSTART;VALUE=DATE:20220406
DTEND;VALUE=DATE:20220407
DTSTAMP:20260422T232612
CREATED:20220201T151955Z
LAST-MODIFIED:20220201T151955Z
UID:45880-1649203200-1649289599@cif.ie
SUMMARY:Donegal Branch Meeting
DESCRIPTION:
URL:https://cif.ie/event/donegal-branch-meeting-16/
LOCATION:Dublin
END:VEVENT
BEGIN:VEVENT
DTSTART;VALUE=DATE:20220405
DTEND;VALUE=DATE:20220406
DTSTAMP:20260422T232612
CREATED:20220316T131935Z
LAST-MODIFIED:20220316T131935Z
UID:47152-1649116800-1649203199@cif.ie
SUMMARY:IHBA Housebuilding Summit
DESCRIPTION:Delivering New Homes: Opportunities & Challenges for Ireland’s new Strategy for Housing\n5th April 2022\nCroke Park\, Dublin \nFor further information/tickets click here – https://www.housebuildingsummit.com/  \n 
URL:https://cif.ie/event/ihba-housebuilding-summit/
LOCATION:Croke Park\, Croke Park\, Jones' Rd\, Drumcondra\, Dublin 3\, Dublin\, D3\, Ireland
END:VEVENT
BEGIN:VEVENT
DTSTART;VALUE=DATE:20220404
DTEND;VALUE=DATE:20220405
DTSTAMP:20260422T232612
CREATED:20220201T151615Z
LAST-MODIFIED:20220201T151615Z
UID:45870-1649030400-1649030400@cif.ie
SUMMARY:North West Branch Meeting
DESCRIPTION:
URL:https://cif.ie/event/north-west-branch-meeting-15/
LOCATION:Dublin
END:VEVENT
END:VCALENDAR