BEGIN:VCALENDAR
VERSION:2.0
PRODID:-//Construction Industry Federation - ECPv6.15.16.1//NONSGML v1.0//EN
CALSCALE:GREGORIAN
METHOD:PUBLISH
X-WR-CALNAME:Construction Industry Federation
X-ORIGINAL-URL:https://cif.ie
X-WR-CALDESC:Events for Construction Industry Federation
REFRESH-INTERVAL;VALUE=DURATION:PT1H
X-Robots-Tag:noindex
X-PUBLISHED-TTL:PT1H
BEGIN:VTIMEZONE
TZID:Europe/Dublin
BEGIN:STANDARD
TZOFFSETFROM:+0000
TZOFFSETTO:+0100
TZNAME:IST
DTSTART:20230326T010000
END:STANDARD
BEGIN:DAYLIGHT
TZOFFSETFROM:+0100
TZOFFSETTO:+0000
TZNAME:GMT
DTSTART:20231029T010000
END:DAYLIGHT
BEGIN:STANDARD
TZOFFSETFROM:+0000
TZOFFSETTO:+0100
TZNAME:IST
DTSTART:20240331T010000
END:STANDARD
BEGIN:DAYLIGHT
TZOFFSETFROM:+0100
TZOFFSETTO:+0000
TZNAME:GMT
DTSTART:20241027T010000
END:DAYLIGHT
BEGIN:STANDARD
TZOFFSETFROM:+0000
TZOFFSETTO:+0100
TZNAME:IST
DTSTART:20250330T010000
END:STANDARD
BEGIN:DAYLIGHT
TZOFFSETFROM:+0100
TZOFFSETTO:+0000
TZNAME:GMT
DTSTART:20251026T010000
END:DAYLIGHT
END:VTIMEZONE
BEGIN:VEVENT
DTSTART;TZID=Europe/Dublin:20240216T190000
DTEND;TZID=Europe/Dublin:20240216T230000
DTSTAMP:20260426T040228
CREATED:20231220T121946Z
LAST-MODIFIED:20231220T122453Z
UID:61458-1708110000-1708124400@cif.ie
SUMMARY:CIF South East Construction Dinner
DESCRIPTION:The CIF South East Construction Dinner is taking place again this February on Friday the 16th in the Tower Hotel\, Waterford. It is a great opportunity to network with fellow construction stakeholders in a social environment. Aswell as fellow construction companies\, Local TD’s\, Local Authority Directors\, potential clients and stakeholders from across the region have attended the event in the past. I would urge you to support your local annual social event. Many companies use the dinner as an opportunity to invite clients to be part of their table.  \nHotel Rooms:\nFor those wishing to stay over in the Tower Hotel\, please mention the CIF dinner when booking to avail of reduced bedroom room rates. The hotel was sold out last year and many members had to book elsewhere so make sure to book your rooms fast.\nRates:      €120 per Deluxe King/Twin Room\n                 €110 per Single Room\nPackage: Bed & Breakfast \nTickets are €100 per person. Partners welcome. Black tie. Tables of up to 10 welcome. Individual bookings also available.\nTo book please contact Brid Cody at bcody@cif.ie or phone 021-435141.
URL:https://cif.ie/event/cif-south-east-construction-dinner/
LOCATION:The Tower Hotel\, The Tower Hotel\, The Mall\, Waterford\, Ireland
CATEGORIES:CIF Events,Southern Region
ATTACH;FMTTYPE=image/png:https://cif.ie/wp-content/uploads/2023/12/CIF-South-east-construction-dinner.png
ORGANIZER;CN="Ronan O'Brien":MAILTO:robrien@cif.ie
END:VEVENT
BEGIN:VEVENT
DTSTART;TZID=Europe/Dublin:20240229T143000
DTEND;TZID=Europe/Dublin:20240229T153000
DTSTAMP:20260426T040228
CREATED:20240226T141233Z
LAST-MODIFIED:20240226T141233Z
UID:62381-1709217000-1709220600@cif.ie
SUMMARY:CECA Health & Safety Benchmark Webinar
DESCRIPTION:Health and Safety Performance Benchmarking – how does your performance compare with your peers in the Construction Industry? \nHave you ever wondered how your company’s health and safety performance compares with other contractors ?\nWould you be interested in an online system to measure your performance against an equivalent group of contractors ? \nIf so\, you will want to know about the Pilot Health and Safety Benchmarking Project that has been operated by the Civil Engineering Contractors Association (CECA). \nThis webinar will outline how this innovative online system operates and the learning outcomes resulting from the data. The panelists will discuss the reasoning behind this project\, how it has benefited their companies\, and outline how you can get involved. The panelists will also answer any questions you have on safety benchmarking during the Q&A session at the end of the presentation. \n  \nRegister Here.
URL:https://cif.ie/event/ceca-health-safety-benchmark-webinar/
LOCATION:Online\, Ireland
CATEGORIES:CIF Events
ATTACH;FMTTYPE=application/pdf:https://cif.ie/wp-content/uploads/2024/02/CECA-HS-Benchmark.pdf
ORGANIZER;CN="Ronan Redmond":MAILTO:rredmond@cif.ie
END:VEVENT
END:VCALENDAR