BEGIN:VCALENDAR
VERSION:2.0
PRODID:-//Construction Industry Federation - ECPv6.15.16.1//NONSGML v1.0//EN
CALSCALE:GREGORIAN
METHOD:PUBLISH
X-WR-CALNAME:Construction Industry Federation
X-ORIGINAL-URL:https://cif.ie
X-WR-CALDESC:Events for Construction Industry Federation
REFRESH-INTERVAL;VALUE=DURATION:PT1H
X-Robots-Tag:noindex
X-PUBLISHED-TTL:PT1H
BEGIN:VTIMEZONE
TZID:Europe/Dublin
BEGIN:STANDARD
TZOFFSETFROM:+0000
TZOFFSETTO:+0100
TZNAME:IST
DTSTART:20230326T010000
END:STANDARD
BEGIN:DAYLIGHT
TZOFFSETFROM:+0100
TZOFFSETTO:+0000
TZNAME:GMT
DTSTART:20231029T010000
END:DAYLIGHT
BEGIN:STANDARD
TZOFFSETFROM:+0000
TZOFFSETTO:+0100
TZNAME:IST
DTSTART:20240331T010000
END:STANDARD
BEGIN:DAYLIGHT
TZOFFSETFROM:+0100
TZOFFSETTO:+0000
TZNAME:GMT
DTSTART:20241027T010000
END:DAYLIGHT
BEGIN:STANDARD
TZOFFSETFROM:+0000
TZOFFSETTO:+0100
TZNAME:IST
DTSTART:20250330T010000
END:STANDARD
BEGIN:DAYLIGHT
TZOFFSETFROM:+0100
TZOFFSETTO:+0000
TZNAME:GMT
DTSTART:20251026T010000
END:DAYLIGHT
END:VTIMEZONE
BEGIN:VEVENT
DTSTART;TZID=Europe/Dublin:20240307T083000
DTEND;TZID=Europe/Dublin:20240307T130000
DTSTAMP:20260426T023510
CREATED:20240112T101249Z
LAST-MODIFIED:20240214T162955Z
UID:61692-1709800200-1709816400@cif.ie
SUMMARY:International Women's Day 2024
DESCRIPTION:We’re once again on the countdown to bringing together an amazing group of women from the construction industry to celebrate International Women’s Day 2024.\nThis is year’s theme is all about inspiring inclusion and we’ll be introducing some keynote speakers to share their journeys and engaging in some lively discussions on: \n\nChallenges in our Industry\nDigital Transformation\nAttracting and Retaining Talent\nHousing and Reform\nCelebrating the first CIF Ladies Forum 25 years on – Business Development Network\n\nRegister for Tickets: The in-person event is now full but you can join online.\nRegister for Online Tickets \n\nWatch Last Year’s Event
URL:https://cif.ie/event/iwd-2024/
LOCATION:Castleknock Hotel\, Porterstown Road\, Dublin\, Dublin 15\, Ireland
CATEGORIES:CIF Events
ATTACH;FMTTYPE=image/jpeg:https://cif.ie/wp-content/uploads/2024/01/CIF-IWD2024.jpg
END:VEVENT
BEGIN:VEVENT
DTSTART;TZID=Europe/Dublin:20240322T190000
DTEND;TZID=Europe/Dublin:20240322T190000
DTSTAMP:20260426T023510
CREATED:20240222T144027Z
LAST-MODIFIED:20240311T152751Z
UID:62350-1711134000-1711134000@cif.ie
SUMMARY:Cork Branch Construction Dinner 2024
DESCRIPTION:
URL:https://cif.ie/event/cork-branch-construction-dinner-2024/
LOCATION:Rochestown Park Hotel\, Douglas\, Cork\, Rochestown Park Hotel\, Rochestown Rd\, Douglas\, Co. Cork\, Cork\, Cork\, Ireland
CATEGORIES:Southern Region
ATTACH;FMTTYPE=image/png:https://cif.ie/wp-content/uploads/2024/02/Cork-Branch-Dinner.png
ORGANIZER;CN="bcody@cif.ie":MAILTO:bcody@cif.ie
END:VEVENT
END:VCALENDAR