BEGIN:VCALENDAR
VERSION:2.0
PRODID:-//Construction Industry Federation - ECPv6.15.16.1//NONSGML v1.0//EN
CALSCALE:GREGORIAN
METHOD:PUBLISH
X-ORIGINAL-URL:https://cif.ie
X-WR-CALDESC:Events for Construction Industry Federation
REFRESH-INTERVAL;VALUE=DURATION:PT1H
X-Robots-Tag:noindex
X-PUBLISHED-TTL:PT1H
BEGIN:VTIMEZONE
TZID:Europe/Dublin
BEGIN:STANDARD
TZOFFSETFROM:+0000
TZOFFSETTO:+0100
TZNAME:IST
DTSTART:20230326T010000
END:STANDARD
BEGIN:DAYLIGHT
TZOFFSETFROM:+0100
TZOFFSETTO:+0000
TZNAME:GMT
DTSTART:20231029T010000
END:DAYLIGHT
BEGIN:STANDARD
TZOFFSETFROM:+0000
TZOFFSETTO:+0100
TZNAME:IST
DTSTART:20240331T010000
END:STANDARD
BEGIN:DAYLIGHT
TZOFFSETFROM:+0100
TZOFFSETTO:+0000
TZNAME:GMT
DTSTART:20241027T010000
END:DAYLIGHT
BEGIN:STANDARD
TZOFFSETFROM:+0000
TZOFFSETTO:+0100
TZNAME:IST
DTSTART:20250330T010000
END:STANDARD
BEGIN:DAYLIGHT
TZOFFSETFROM:+0100
TZOFFSETTO:+0000
TZNAME:GMT
DTSTART:20251026T010000
END:DAYLIGHT
END:VTIMEZONE
BEGIN:VEVENT
DTSTART;TZID=Europe/Dublin:20240408T080000
DTEND;TZID=Europe/Dublin:20240408T170000
DTSTAMP:20260426T010146
CREATED:20240408T123119Z
LAST-MODIFIED:20240408T123119Z
UID:63457-1712563200-1712595600@cif.ie
SUMMARY:CIF Annual Conference
DESCRIPTION:ELEVATING IRELAND: THE VITAL ROLE OF CONSTRUCTION IN BUILDING SUSTAINABLE GROWTH \nIreland reached a significant milestone in 2023\, as its population reached 5.2 million. We have a prime opportunity to seize the potential of this growth as a nation\, with the construction sector poised to drive our progress forward. \nYet\, these changing dynamics underscore the need for policy initiatives to ensure we can foster sustainable economic prosperity and competitiveness by delivering a built environment to support our evolving nation. The construction industry plays a key role in building this resilience. \nWe critically need a built environment including roads\, transport systems\, schools\, hospitals and utilities\, which in turn will underpin the country’s ability to realise housing targets and climate commitments. \nA clear pipeline of work to support investment by the construction industry in the resources needed to deliver infrastructure is essential. The Government’s commitment to investing in the NDP is crucial for providing this certainty to support investment and growth in the sector. \n Join us on 24 September 2024 in Croke Park\, as we explore the construction industry’s key role in building for a growing nation and how the sector can scale up to drive Ireland’s development. \nWe will have contributions from the CIF\, the industry and government on: \n\nElevating Ireland: the vital role of construction in building sustainable growth\nSupporting foreign direct investment (FDI) and economic growth for the construction industry\nDelivering sustainable energy and growth for the population\nAddressing the challenges of population growth\nDelivering a planning system that supports progress\nThe journey into construction\nImplementing the National Development Plan (NDP)\nImpact of the National Planning Framework (NPF)\nMeeting our critical climate commitment targets\nBuilding a prosperous thriving society\nInfrastructure investments\nExpediting infrastructure delivery\nConstructing a sustainability built environmen\nDecarbonising construction\nInnovating for enhanced productivity\nEmerging technologies and the surge of ArtificiaI Intelligence (AI)\nOffsite construction\nThe role of youth in sustainable development\nEducation and Careers\nIncreasing pathways into construction\nEnsuring a diverse and inclusive work culture\nEducating the workforce of the future\nUpskilling and empowering our current workforce\n\n 
URL:https://cif.ie/event/cif-annual-conference/
LOCATION:Croke Park\, Croke Park\, Jones' Rd\, Drumcondra\, Dublin 3\, Dublin\, D3\, Ireland
ATTACH;FMTTYPE=image/png:https://cif.ie/wp-content/uploads/2024/04/CIF-Annual-Conference-300x58-1.png
END:VEVENT
BEGIN:VEVENT
DTSTART;TZID=Europe/Dublin:20240412T190000
DTEND;TZID=Europe/Dublin:20240412T190000
DTSTAMP:20260426T010146
CREATED:20240226T143018Z
LAST-MODIFIED:20250114T151449Z
UID:62397-1712948400-1712948400@cif.ie
SUMMARY:CIF West Gala Dinner 2024
DESCRIPTION:Are you working in the Construction Industry in the West of Ireland?  \nAre you considering a future project or developing a business base in the West of Ireland?  \nJoin us for the Annual CIF West Gala Dinner – Book Your Tickets Today \nThis year’s CIF West Gala Dinner will take place on Friday 12th April 2024 in the Ardilaun Hotel\, Galway. \nA key event in the construction industry calendar\, the CIF West Gala Dinner allows the opportunity for companies in the construction sector operating or considering projects in the West of Ireland to engage and network with like-minded CIF Members and businesses\, making valuable contacts in the area. \nIn addition to being a fun and interactive evening\, the event brings over 250 key industry professionals\, and decision-makers actively working in the region into one room to make effective long-term connections for the future. \n\nWhere: The Ardilaun Hotel\, Galway\nWhen: Friday 12th April 2024\, 7:00 pm – late\nDress Code: Black Tie \n\nDon’t miss out on your chance to attend this year’s only CIF Construction Gala Dinner event in the West. \nTo book your tickets or for sponsorship opportunities\, please contact our team at westernregionevents@cif.ie
URL:https://cif.ie/event/join-us-for-the-annual-cif-west-gala-dinner-book-your-tickets-today/
LOCATION:The Ardilaun Hotel Galway\, Taylor's Hill\, Galway\, Ireland
CATEGORIES:CIF Events,Western & Midland Region
ATTACH;FMTTYPE=image/png:https://cif.ie/wp-content/uploads/2024/02/820-312.png
ORGANIZER;CN="westernregionevents@cif.ie":MAILTO:westernregionevents@cif.ie
END:VEVENT
BEGIN:VEVENT
DTSTART;VALUE=DATE:20240416
DTEND;VALUE=DATE:20240417
DTSTAMP:20260426T010146
CREATED:20240130T125108Z
LAST-MODIFIED:20240410T101837Z
UID:62099-1713225600-1713311999@cif.ie
SUMMARY:IHBA Housing Summit  - 16 May 2024
DESCRIPTION:The IHBA’s one-day Housebuilding Summit is the must-attend event for housebuilders\, developers\, policymakers\, local authorities\, housing associations\, key partners and suppliers. We will explore how we speed up the delivery of homes. We will be asking can we deliver housing in the coming decade and if so how do we achieve it? The Summit will provide a national platform for key stakeholders and industry voices to share details of upcoming developments and discuss major issues and challenges.\n\nClick here for further details \n 
URL:https://cif.ie/event/ihba-housing-summit/
LOCATION:Croke Park\, Croke Park\, Jones' Rd\, Drumcondra\, Dublin 3\, Dublin\, D3\, Ireland
CATEGORIES:IHBA
ATTACH;FMTTYPE=image/jpeg:https://cif.ie/wp-content/uploads/2024/01/IHBA_Sharing.jpg
END:VEVENT
END:VCALENDAR