BEGIN:VCALENDAR
VERSION:2.0
PRODID:-//Construction Industry Federation - ECPv6.15.16.1//NONSGML v1.0//EN
CALSCALE:GREGORIAN
METHOD:PUBLISH
X-WR-CALNAME:Construction Industry Federation
X-ORIGINAL-URL:https://cif.ie
X-WR-CALDESC:Events for Construction Industry Federation
REFRESH-INTERVAL;VALUE=DURATION:PT1H
X-Robots-Tag:noindex
X-PUBLISHED-TTL:PT1H
BEGIN:VTIMEZONE
TZID:Europe/Dublin
BEGIN:STANDARD
TZOFFSETFROM:+0000
TZOFFSETTO:+0100
TZNAME:IST
DTSTART:20230326T010000
END:STANDARD
BEGIN:DAYLIGHT
TZOFFSETFROM:+0100
TZOFFSETTO:+0000
TZNAME:GMT
DTSTART:20231029T010000
END:DAYLIGHT
BEGIN:STANDARD
TZOFFSETFROM:+0000
TZOFFSETTO:+0100
TZNAME:IST
DTSTART:20240331T010000
END:STANDARD
BEGIN:DAYLIGHT
TZOFFSETFROM:+0100
TZOFFSETTO:+0000
TZNAME:GMT
DTSTART:20241027T010000
END:DAYLIGHT
BEGIN:STANDARD
TZOFFSETFROM:+0000
TZOFFSETTO:+0100
TZNAME:IST
DTSTART:20250330T010000
END:STANDARD
BEGIN:DAYLIGHT
TZOFFSETFROM:+0100
TZOFFSETTO:+0000
TZNAME:GMT
DTSTART:20251026T010000
END:DAYLIGHT
END:VTIMEZONE
BEGIN:VEVENT
DTSTART;TZID=Europe/Dublin:20241002T133000
DTEND;TZID=Europe/Dublin:20241002T180000
DTSTAMP:20260425T154947
CREATED:20240710T112120Z
LAST-MODIFIED:20240821T121059Z
UID:65211-1727875800-1727892000@cif.ie
SUMMARY:IHBA Annual Housing Lunch 2024
DESCRIPTION:The Irish Home Builders Association Annual Lunch will take place in the Anantara\, Marker Hotel\, Grand Canal Basin on Wednesday\, 2nd of October\, 2024 at 1.30pm. \nContact cathy at cgurry@cif.ie for booking information or call on 01-4066008 / 087 4067 125.
URL:https://cif.ie/event/ihba-annual-housing-lunch-2024/
LOCATION:Marker Hotel\, Docklands\,\, Dublin 2\, Ireland
END:VEVENT
BEGIN:VEVENT
DTSTART;TZID=Europe/Dublin:20241016T173000
DTEND;TZID=Europe/Dublin:20241016T210000
DTSTAMP:20260425T154947
CREATED:20240927T161645Z
LAST-MODIFIED:20241016T101539Z
UID:66458-1729099800-1729112400@cif.ie
SUMMARY:South East Construct
DESCRIPTION:CIF South East Construct Conference 2024 is taking place on Wednesday\, 16th October 2024. \nThe event will be held in the Tower Hotel\, Waterford and run from 5.30pm to 9pm. \nLast year’s event was very well attended and proved to be a great opportunity for members and other construction stakeholders to network. \nThe lineup of speakers and panel guests this year is very strong\, and a full agenda will issue shortly. \nDiscussion Items will include:- \n\nAnalysis of the South East Housing Market\nPresentation from HBFI\nPanel Discussion on Planning & Development in the South East\nHealth & Safety\nUpdate on the Rosslare Harbour\nPanel Discussion on the Development of the South East Region\n\n  \nTickets are available at a cost of €50 to non-members\, members can avail of free tickets by entering the promo code which is available by emailing Bríd at bcody@cif.ie. \nBooking is via Eventbrite \nhttps://www.eventbrite.ie/e/cif-south-east-construct-2024-tickets-1022630835357 \n  \nThese events would not be possible without the support of our stakeholders in the South East and we would encourage you and your colleagues to attend this important event for the industry in your region. \n 
URL:https://cif.ie/event/south-east-construct-2/
LOCATION:Tower Hotel\, Waterford\, Tower Hotel\, Waterford\, Ireland
CATEGORIES:CIF Events
ATTACH;FMTTYPE=image/png:https://cif.ie/wp-content/uploads/2024/09/IMG_1414.png
ORGANIZER;CN="bcody@cif.ie":MAILTO:bcody@cif.ie
END:VEVENT
BEGIN:VEVENT
DTSTART;VALUE=DATE:20241022
DTEND;VALUE=DATE:20241023
DTSTAMP:20260425T154947
CREATED:20240408T124306Z
LAST-MODIFIED:20241016T102650Z
UID:63469-1729555200-1729641599@cif.ie
SUMMARY:Digicon
DESCRIPTION:
URL:https://cif.ie/event/digicon/
LOCATION:Croke Park\, Croke Park\, Jones' Rd\, Drumcondra\, Dublin 3\, Dublin\, D3\, Ireland
CATEGORIES:CIF Events
ATTACH;FMTTYPE=image/png:https://cif.ie/wp-content/uploads/2024/04/Digicon-2024-qkkeucm2euoejw2qm0al14pre27fo67fj2918hdv5s.png
END:VEVENT
BEGIN:VEVENT
DTSTART;TZID=Europe/Dublin:20241023T110000
DTEND;TZID=Europe/Dublin:20241023T130000
DTSTAMP:20260425T154947
CREATED:20240912T081457Z
LAST-MODIFIED:20240912T081457Z
UID:66169-1729681200-1729688400@cif.ie
SUMMARY:CIF Executive Body Meeting
DESCRIPTION:CIF Executive Body Meeting – re-scheduled to Wednesday\, 23rd of October from 11.00am to 1.00pm
URL:https://cif.ie/event/cif-executive-body-meeting/
LOCATION:CIF Head Office Dublin\, CIF Head Office Dublin\, Canal Road\, Ranelagh\, Dublin\, D06 C6T2\, Ireland
END:VEVENT
BEGIN:VEVENT
DTSTART;TZID=Europe/Dublin:20241023T140000
DTEND;TZID=Europe/Dublin:20241023T160000
DTSTAMP:20260425T154947
CREATED:20240829T102753Z
LAST-MODIFIED:20240912T081156Z
UID:65951-1729692000-1729699200@cif.ie
SUMMARY:IHBA National Committee Meeting
DESCRIPTION:The IHBA National Committee Meeting will take place on Wednesday\, 23rd of October in CIF HQ from 2.00pm to 4.00pm
URL:https://cif.ie/event/ihba-national-committee-meeting-7/
LOCATION:CIF Head Office Dublin\, CIF Head Office Dublin\, Canal Road\, Ranelagh\, Dublin\, D06 C6T2\, Ireland
ORGANIZER;CN="cgurry@cif.ie":MAILTO:cgurry@cif.ie
END:VEVENT
END:VCALENDAR